BEGIN:VCALENDAR
VERSION:2.0
PRODID:-//Australian Commercial Marine Group - ECPv5.14.1//NONSGML v1.0//EN
CALSCALE:GREGORIAN
METHOD:PUBLISH
X-WR-CALNAME:Australian Commercial Marine Group
X-ORIGINAL-URL:https://www.commercialmarine.com.au
X-WR-CALDESC:Events for Australian Commercial Marine Group
REFRESH-INTERVAL;VALUE=DURATION:PT1H
X-Robots-Tag:noindex
X-PUBLISHED-TTL:PT1H
BEGIN:VTIMEZONE
TZID:Australia/Sydney
BEGIN:STANDARD
TZOFFSETFROM:+1100
TZOFFSETTO:+1000
TZNAME:AEST
DTSTART:20260404T160000
END:STANDARD
BEGIN:DAYLIGHT
TZOFFSETFROM:+1000
TZOFFSETTO:+1100
TZNAME:AEDT
DTSTART:20261003T160000
END:DAYLIGHT
END:VTIMEZONE
BEGIN:VEVENT
DTSTART;VALUE=DATE:20261031
DTEND;VALUE=DATE:20261105
DTSTAMP:20260419T234859
CREATED:20221201T042746Z
LAST-MODIFIED:20251212T050512Z
UID:7910-1793404800-1793836799@www.commercialmarine.com.au
SUMMARY:Interferry Conference
DESCRIPTION:Interferry is a highly respected global association with more than 270 member companies representing more than 1\,000 individuals from over 40 countries. With a laser-like focus on the safety and security of passengers\, crew\, cargo and ships\, InterFerry ensures that fair and equitable regulations exist for the ferry industry\, including free\, fair and open competition\, as well as the protection of the environment. \n\nThe attendance at the Interferry Conference of a great number of owners and top-level decision-makers in the ferry industry along with the lively and interactive atmosphere fosters the exchange of experience\, ideas and contacts. \nExplore Interferry   \nIf you are interested in attending\, please contact the show directly.
URL:https://www.commercialmarine.com.au/event/interferry-conference-2023/
LOCATION:Bangkok\, Thailand\, Italy
ATTACH;FMTTYPE=image/png:https://www.commercialmarine.com.au/wp-content/uploads/Interferry.png
END:VEVENT
END:VCALENDAR