BEGIN:VCALENDAR
VERSION:2.0
PRODID:-//Australian Commercial Marine Group - ECPv5.14.1//NONSGML v1.0//EN
CALSCALE:GREGORIAN
METHOD:PUBLISH
X-WR-CALNAME:Australian Commercial Marine Group
X-ORIGINAL-URL:https://www.commercialmarine.com.au
X-WR-CALDESC:Events for Australian Commercial Marine Group
REFRESH-INTERVAL;VALUE=DURATION:PT1H
X-Robots-Tag:noindex
X-PUBLISHED-TTL:PT1H
BEGIN:VTIMEZONE
TZID:Australia/Sydney
BEGIN:STANDARD
TZOFFSETFROM:+1100
TZOFFSETTO:+1000
TZNAME:AEST
DTSTART:20260404T160000
END:STANDARD
BEGIN:DAYLIGHT
TZOFFSETFROM:+1000
TZOFFSETTO:+1100
TZNAME:AEDT
DTSTART:20261003T160000
END:DAYLIGHT
END:VTIMEZONE
BEGIN:VEVENT
DTSTART;VALUE=DATE:20261117
DTEND;VALUE=DATE:20261120
DTSTAMP:20260420T102031
CREATED:20231101T021425Z
LAST-MODIFIED:20251212T052516Z
UID:8344-1794873600-1795132799@www.commercialmarine.com.au
SUMMARY:Metstrade
DESCRIPTION:The Metstrade Show is the world’s largest trade exhibition of marine equipment\, materials and systems. Metstrade cater for three specialist sectors\, namely Superyachts\, Marinas and Yards and Construction materials\, showcased through three specialised pavilions\, each offering a smaller self-contained show within the larger Metstrade Show context. \nEvery year AIMEX organises the Australian Pavilion along with an Outback Party to invite key clients to network. \nExplore Metstrade \nIf you are interested in attending\, please contact our Operations Manager\, Maddie Spencer – mspencer@aimex.asn.au
URL:https://www.commercialmarine.com.au/event/metstrade/
LOCATION:RAI Amsterdam Exhibition and Convention Centre\, Europaplein 24\, 1078 GZ\, Amsterdam\, Netherlands
ATTACH;FMTTYPE=image/png:https://www.commercialmarine.com.au/wp-content/uploads/METS-New-Logo.png
END:VEVENT
END:VCALENDAR